{"text_format":"3","workbook":"xlsx","n_sheets":4,"sheets":["应用经济学","法学","管理科学与工程","工商管理"],"not_rendered":{"external_links":1},"read":"whole","date_system":"1900"}

{"sheet":"应用经济学","index":0,"n_rows":18,"n_cols":16,"rows_kept":18,"merged":[[0,0,0,15],[1,0,2,0],[1,1,2,1],[1,2,1,5],[1,6,1,9],[1,10,1,13],[1,14,2,14],[1,15,2,15]]}
["中国石油大学（北京）研究生综合测评汇总表（工商管理学院-应用经济学专业）"]
["学号","姓名","德育成绩",{"$nulls":3},"智育成绩",{"$nulls":3},"文体成绩",{"$nulls":3},"总分","名次"]
[null,null,"基础分","奖励分","惩罚分","总 分","学习成绩分","奖励分","惩罚分","总 分","基本分","奖励分","惩罚分","总 分"]
["2013217002","侯运",{"v":98.79875,"d":"98.7988"},16,0,{"$f":"C4+D4","v":{"v":114.79875,"d":"114.7988"}},{"v":90.12727272727273,"d":"90.1273"},7.47,0,{"$f":"G4+H4","v":{"v":97.59727272727272,"d":"97.5973"}},{"v":98.359375,"d":"98.3594"},0,0,{"$f":"K4+L4","v":{"v":98.359375,"d":"98.3594"}},{"$f":"F4*0.2+J4*0.7+N4*0.1","v":{"v":101.1137784090909,"d":"101.1138"}},1]
["2013217009","冯玉南",{"v":99.05281249999999,"d":"99.0528"},13,0,{"v":112.05281249999999,"d":"112.0528"},{"v":89.01363636363637,"d":"89.0136"},6,0,{"v":95.01363636363637,"d":"95.0136"},{"v":98.821875,"d":"98.8219"},2,0,{"v":100.821875,"d":"100.8219"},{"v":99.00229545454545,"d":"99.0023"},2]
["2013217010","吴珉颉",{"v":99.38093749999999,"d":"99.3809"},14,0,{"v":113.38093749999999,"d":"113.3809"},{"v":89.14999999999999,"d":"89.1500"},4,0,{"v":93.14999999999999,"d":"93.1500"},98.9375,2,0,100.9375,{"v":97.97493749999998,"d":"97.9749"},3]
["2013217008","李艳丽",{"v":98.8384375,"d":"98.8384"},1,0,{"v":99.8384375,"d":"99.8384"},94.1875,2,0,96.1875,98.1875,0,0,98.1875,{"v":97.11768749999999,"d":"97.1177"},4]
["2013217013","王晓宇",{"v":98.24419062499999,"d":"98.2442"},7.8,0,{"v":106.04419062499998,"d":"106.0442"},{"v":88.00681818181818,"d":"88.0068"},4,0,{"v":92.00681818181818,"d":"92.0068"},{"v":98.259375,"d":"98.2594"},0,0,{"v":98.259375,"d":"98.2594"},{"v":95.43954835227271,"d":"95.4395"},5]
["2013217003","邹坤",{"v":97.3165625,"d":"97.3166"},5,0,{"v":102.3165625,"d":"102.3166"},{"v":90.7782608695652,"d":"90.7783"},2,0,{"v":92.7782608695652,"d":"92.7783"},{"v":98.38125,"d":"98.3813"},0,0,{"v":98.38125,"d":"98.3813"},{"v":95.24622010869564,"d":"95.2462"},6]
["2013217006","董昊鑫",{"v":98.733125,"d":"98.7331"},9.8,0,{"v":108.533125,"d":"108.5331"},{"v":87.57499999999999,"d":"87.5750"},2,0,{"v":89.57499999999999,"d":"89.5750"},{"v":98.36875,"d":"98.3688"},2,0,{"v":100.36875,"d":"100.3688"},{"v":94.446,"d":"94.4460"},7]
["2013217005","刘玮",{"v":98.10249999999999,"d":"98.1025"},10,0,{"v":108.10249999999999,"d":"108.1025"},{"v":88.67727272727272,"d":"88.6773"},0,0,{"v":88.67727272727272,"d":"88.6773"},{"v":98.59375,"d":"98.5938"},2,0,{"v":100.59375,"d":"100.5938"},{"v":93.7539659090909,"d":"93.7540"},8]
["2013217011","严佳敏",{"v":99.05937499999999,"d":"99.0594"},8,0,{"v":107.05937499999999,"d":"107.0594"},{"v":88.77272727272727,"d":"88.7727"},0,0,{"v":88.77272727272727,"d":"88.7727"},{"v":98.53125,"d":"98.5313"},2,0,{"v":100.53125,"d":"100.5313"},{"v":93.60590909090908,"d":"93.6059"},9]
["2013217004","宋瑜",{"v":98.4221875,"d":"98.4222"},9,0,{"v":107.4221875,"d":"107.4222"},{"v":86.61136363636363,"d":"86.6114"},2,0,{"v":88.61136363636363,"d":"88.6114"},{"v":98.603125,"d":"98.6031"},0,0,{"v":98.603125,"d":"98.6031"},{"v":93.37270454545455,"d":"93.3727"},10]
["2013217012","赵婧芳",{"v":98.287503125,"d":"98.2875"},5,0,{"v":103.287503125,"d":"103.2875"},{"v":89.15217391304347,"d":"89.1522"},0,0,{"v":89.15217391304347,"d":"89.1522"},98.4375,0,0,98.4375,{"v":92.90777236413042,"d":"92.9078"},11]
["2013217001","陈佳",{"v":98.57125,"d":"98.5713"},6.8,0,{"v":105.37125,"d":"105.3713"},{"v":86.42636363636363,"d":"86.4264"},0,0,{"v":86.42636363636363,"d":"86.4264"},{"v":99.15,"d":"99.1500"},2,0,{"v":101.15,"d":"101.1500"},{"v":91.68770454545455,"d":"91.6877"},12]
["2013217007","宋奇高",{"v":97.5421875,"d":"97.5422"},9.8,0,{"v":107.3421875,"d":"107.3422"},{"v":85.30454545454543,"d":"85.3045"},0,0,{"v":85.30454545454543,"d":"85.3045"},{"v":98.521875,"d":"98.5219"},3.4,0,{"v":101.921875,"d":"101.9219"},{"v":91.3738068181818,"d":"91.3738"},13]
["2013217014","赵密密",{"v":98.2734375,"d":"98.2734"},5,0,{"v":103.2734375,"d":"103.2734"},{"v":85.29782608695652,"d":"85.2978"},0,0,{"v":85.29782608695652,"d":"85.2978"},{"v":98.234375,"d":"98.2344"},0,0,{"v":98.234375,"d":"98.2344"},{"v":90.18660326086956,"d":"90.1866"},14]
[2011217003,"刘暄",{"$f":"[1]德育成绩!F13","v":{"v":99.01366666666667,"d":"99.0137"}},{"$f":"[1]德育成绩!E13","v":9},0,{"$f":"[1]德育成绩!G13","v":{"v":108.01366666666667,"d":"108.0137"}},{"$f":"[1]智育成绩!E13","v":{"v":88.00840336134453,"d":"88.0084"}},{"$f":"[1]智育成绩!F13","v":0},0,{"$f":"[1]智育成绩!G13","v":{"v":88.00840336134453,"d":"88.0084"}},{"$f":"[1]体育成绩!C13","v":{"v":98.99380952380955,"d":"98.9938"}},{"$f":"[1]体育成绩!D13","v":2},0,{"$f":"[1]体育成绩!E13","v":{"v":100.99380952380955,"d":"100.9938"}},{"$f":"0.2*F18+0.7*J18+0.1*N18","v":{"v":93.30799663865545,"d":"93.3080"}},15]

{"sheet":"法学","index":1,"n_rows":8,"n_cols":16,"rows_kept":8,"merged":[[0,0,0,15],[1,0,2,0],[1,1,2,1],[1,2,1,5],[1,6,1,9],[1,10,1,13],[1,14,2,14],[1,15,2,15]]}
["中国石油大学（北京）研究生综合测评汇总表（工商管理学院-法学专业）"]
["学号","姓名","德育成绩",{"$nulls":3},"智育成绩",{"$nulls":3},"文体成绩",{"$nulls":3},"总分","名次"]
[null,null,"基础分","奖励分","惩罚分","总 分","学习成绩分","奖励分","惩罚分","总 分","基本分","奖励分","惩罚分","总 分"]
["2013217017","陈梦静",{"v":98.48187499999999,"d":"98.4819"},9,0,{"$f":"C4+D4","v":{"v":107.48187499999999,"d":"107.4819"}},{"v":91.70079365079364,"d":"91.7008"},0,0,{"$f":"G4+H4","v":{"v":91.70079365079364,"d":"91.7008"}},{"v":95.09375,"d":"95.0938"},0,0,{"$f":"K4+L4","v":{"v":95.09375,"d":"95.0938"}},{"$f":"F4*0.2+J4*0.7+N4*0.1","v":{"v":95.19630555555555,"d":"95.1963"}},1]
["2013217019","刘书鑫",{"v":98.910625,"d":"98.9106"},8.8,0,{"$f":"C5+D5","v":{"v":107.710625,"d":"107.7106"}},{"v":89.16746031746032,"d":"89.1675"},2,0,{"$f":"G5+H5","v":{"v":91.16746031746032,"d":"91.1675"}},98.2875,0,0,{"$f":"K5+L5","v":98.2875},{"$f":"F5*0.2+J5*0.7+N5*0.1","v":{"v":95.18809722222223,"d":"95.1881"}},2]
["2013217018","王超芮",{"v":97.893,"d":"97.8930"},3,0,{"$f":"C6+D6","v":{"v":100.893,"d":"100.8930"}},{"v":90.47460317460317,"d":"90.4746"},0,0,{"$f":"G6+H6","v":{"v":90.47460317460317,"d":"90.4746"}},{"v":97.828125,"d":"97.8281"},0,0,{"$f":"K6+L6","v":{"v":97.828125,"d":"97.8281"}},{"$f":"F6*0.2+J6*0.7+N6*0.1","v":{"v":93.29363472222224,"d":"93.2936"}},3]
["2013217016","刘梦莹",{"v":98.473125,"d":"98.4731"},2,0,{"$f":"C7+D7","v":{"v":100.473125,"d":"100.4731"}},{"v":88.74285714285713,"d":"88.7429"},0,0,{"$f":"G7+H7","v":{"v":88.74285714285713,"d":"88.7429"}},{"v":98.00625,"d":"98.0063"},0,0,{"$f":"K7+L7","v":{"v":98.00625,"d":"98.0063"}},{"$f":"F7*0.2+J7*0.7+N7*0.1","v":{"v":92.01524999999998,"d":"92.0153"}},4]
["2013217015","王文图",{"v":98.49499999999999,"d":"98.4950"},6,0,{"$f":"C8+D8","v":{"v":104.49499999999999,"d":"104.4950"}},{"v":84.89230769230768,"d":"84.8923"},0,0,{"$f":"G8+H8","v":{"v":84.89230769230768,"d":"84.8923"}},{"v":97.71875,"d":"97.7188"},0,0,{"$f":"K8+L8","v":{"v":97.71875,"d":"97.7188"}},{"$f":"F8*0.2+J8*0.7+N8*0.1","v":{"v":90.09549038461537,"d":"90.0955"}},5]

{"sheet":"管理科学与工程","index":2,"n_rows":16,"n_cols":16,"rows_kept":16,"merged":[[0,0,0,15],[1,0,2,0],[1,1,2,1],[1,2,1,5],[1,6,1,9],[1,10,1,13],[1,14,2,14],[1,15,2,15]]}
["中国石油大学（北京）研究生综合测评汇总表（工商管理学院-管理科学与工程专业）"]
["学号","姓名","德育成绩",{"$nulls":3},"智育成绩",{"$nulls":3},"文体成绩",{"$nulls":3},"总分","名次"]
[null,null,"基础分","奖励分","惩罚分","总 分","学习成绩分","奖励分","惩罚分","总 分","基本分","奖励分","惩罚分","总 分"]
["2011217043","李观",{"v":98.55559374999999,"d":"98.5556"},14,0,{"$f":"C4+D4","v":{"v":112.55559374999999,"d":"112.5556"}},{"v":86.27767857142857,"d":"86.2777"},15.3333,0,{"$f":"G4+H4","v":{"v":101.61097857142856,"d":"101.6110"}},{"v":98.134375,"d":"98.1344"},5,0,{"$f":"K4+L4","v":{"v":103.134375,"d":"103.1344"}},{"$f":"F4*0.2+J4*0.7+N4*0.1","v":{"v":103.95224124999999,"d":"103.9522"}},1]
["2013217020","董聪",{"v":98.6583125,"d":"98.6583"},14,0,{"v":112.6583125,"d":"112.6583"},{"v":91.75,"d":"91.7500"},{"v":9.066666666666668,"d":"9.0667"},0,{"v":100.81666666666666,"d":"100.8167"},{"v":98.54375,"d":"98.5438"},2,0,{"v":100.54375,"d":"100.5438"},{"v":103.15770416666666,"d":"103.1577"},2]
["2013217030","余晨",{"v":99.40716562499999,"d":"99.4072"},15.8,0,{"v":115.20716562499999,"d":"115.2072"},{"v":93.58333333333331,"d":"93.5833"},{"v":5.33333333333333,"d":"5.3333"},0,{"v":98.91666666666664,"d":"98.9167"},{"v":98.990625,"d":"98.9906"},{"v":5.06666666666667,"d":"5.0667"},0,{"v":104.05729166666666,"d":"104.0573"},{"v":102.68882895833332,"d":"102.6888"},3]
["2013217022","罗潇",{"v":97.896875,"d":"97.8969"},6,0,{"v":103.896875,"d":"103.8969"},{"v":91.44444444444443,"d":"91.4444"},5.6,0,{"v":97.04444444444442,"d":"97.0444"},{"v":98.275,"d":"98.2750"},0,0,{"v":98.275,"d":"98.2750"},{"v":98.5379861111111,"d":"98.5380"},4]
["2013217023","沈雅莉",{"v":97.35374999999999,"d":"97.3538"},8,0,{"v":105.35374999999999,"d":"105.3538"},{"v":90.68947368421053,"d":"90.6895"},2,0,{"v":92.68947368421053,"d":"92.6895"},{"v":98.44375,"d":"98.4438"},0,0,{"v":98.44375,"d":"98.4438"},{"v":95.79775657894737,"d":"95.7978"},5]
["2013217029","江玲玉",{"v":98.45859374999999,"d":"98.4586"},8,0,{"v":106.45859374999999,"d":"106.4586"},{"v":89.90555555555555,"d":"89.9056"},2,0,{"v":91.90555555555555,"d":"91.9056"},{"v":98.209375,"d":"98.2094"},0,0,{"v":98.209375,"d":"98.2094"},{"v":95.44654513888888,"d":"95.4465"},6]
["2013217027","王雪成",{"v":98.505478125,"d":"98.5055"},6,0,{"v":104.505478125,"d":"104.5055"},{"v":89.64999999999999,"d":"89.6500"},0,0,{"v":89.64999999999999,"d":"89.6500"},{"v":98.278125,"d":"98.2781"},5,0,{"v":103.278125,"d":"103.2781"},{"v":93.983908125,"d":"93.9839"},7]
["2013217025","于松民",{"v":97.33624999999999,"d":"97.3363"},1,0,{"v":98.33624999999999,"d":"98.3363"},{"v":91.37837837837837,"d":"91.3784"},0,0,{"v":91.37837837837837,"d":"91.3784"},{"v":97.953125,"d":"97.9531"},0,0,{"v":97.953125,"d":"97.9531"},{"v":93.42742736486485,"d":"93.4274"},8]
["2013217033","韩柳",{"v":97.29840624999999,"d":"97.2984"},2,0,{"v":99.29840624999999,"d":"99.2984"},{"v":90.19642857142856,"d":"90.1964"},0,0,{"v":90.19642857142856,"d":"90.1964"},{"v":98.515625,"d":"98.5156"},2,0,{"v":100.515625,"d":"100.5156"},{"v":93.04874374999999,"d":"93.0487"},9]
["2013217021","何培",{"v":98.40312499999999,"d":"98.4031"},2,0,{"v":100.40312499999999,"d":"100.4031"},{"v":89.22777777777777,"d":"89.2278"},1,0,{"v":90.22777777777777,"d":"90.2278"},{"v":97.73125,"d":"97.7313"},0,0,{"v":97.73125,"d":"97.7313"},{"v":93.01319444444442,"d":"93.0132"},10]
["2013217024","葛庆瑞",{"v":98.360440625,"d":"98.3604"},12,0,{"v":110.360440625,"d":"110.3604"},{"v":83.62777777777777,"d":"83.6278"},0,0,{"v":83.62777777777777,"d":"83.6278"},98.4625,5,0,103.4625,{"v":90.95778256944443,"d":"90.9578"},11]
["2013217031","李春节",{"v":99.13987499999999,"d":"99.1399"},1,0,{"v":100.13987499999999,"d":"100.1399"},{"v":85.15151515151516,"d":"85.1515"},0,0,{"v":85.15151515151516,"d":"85.1515"},{"v":98.971875,"d":"98.9719"},2,0,{"v":100.971875,"d":"100.9719"},{"v":89.7312231060606,"d":"89.7312"},12]
["2013217028","王怀宁",{"v":98.563440625,"d":"98.5634"},6,0,{"v":104.563440625,"d":"104.5634"},{"v":81.54285714285714,"d":"81.5429"},0,0,{"v":81.54285714285714,"d":"81.5429"},{"v":98.446875,"d":"98.4469"},2,0,{"v":100.446875,"d":"100.4469"},{"v":88.03737562500001,"d":"88.0374"},13]

{"sheet":"工商管理","index":3,"n_rows":26,"n_cols":16,"rows_kept":26,"merged":[[0,0,0,15],[1,0,2,0],[1,1,2,1],[1,2,1,5],[1,6,1,9],[1,10,1,13],[1,14,2,14],[1,15,2,15]]}
["中国石油大学（北京）研究生综合测评汇总表（工商管理学院-工商管理专业）"]
["学号","姓名","德育成绩",{"$nulls":3},"智育成绩",{"$nulls":3},"文体成绩",{"$nulls":3},"总分","名次"]
[null,null,"基础分","奖励分","惩罚分","总 分","学习成绩分","奖励分","惩罚分","总 分","基本分","奖励分","惩罚分","总 分"]
["2013217057","冯金",{"$f":"[1]德育成绩!F17","v":{"v":99.51466666666667,"d":"99.5147"}},{"$f":"[1]德育成绩!E17","v":16},0,{"$f":"[1]德育成绩!G17","v":{"v":115.51466666666667,"d":"115.5147"}},{"$f":"[1]智育成绩!E17","v":{"v":92.63478260869564,"d":"92.6348"}},{"$f":"[1]智育成绩!F17","v":32.67},0,{"$f":"[1]智育成绩!G17","v":{"v":125.30478260869565,"d":"125.3048"}},{"$f":"[1]体育成绩!C17","v":{"v":99.39761904761905,"d":"99.3976"}},{"$f":"[1]体育成绩!D17","v":5.4},0,{"$f":"[1]体育成绩!E17","v":{"v":104.79761904761905,"d":"104.7976"}},{"$f":"0.2*F4+0.7*J4+0.1*N4","v":{"v":121.29604306418219,"d":"121.2960"}},1]
["2013217036","陈英超",{"$f":"[1]德育成绩!F4","v":{"v":99.44533333333332,"d":"99.4453"}},{"$f":"[1]德育成绩!E4","v":10},0,{"$f":"[1]德育成绩!G4","v":{"v":109.44533333333332,"d":"109.4453"}},{"$f":"[1]智育成绩!E4","v":{"v":90.96923076923076,"d":"90.9692"}},{"$f":"[1]智育成绩!F4","v":13.2},0,{"$f":"[1]智育成绩!G4","v":{"v":104.16923076923077,"d":"104.1692"}},{"$f":"[1]体育成绩!C4","v":{"v":99.35904761904762,"d":"99.3590"}},{"$f":"[1]体育成绩!D4","v":2},0,{"$f":"[1]体育成绩!E4","v":{"v":101.35904761904762,"d":"101.3590"}},{"v":104.94343296703295,"d":"104.9434"},2]
["2013217058","特绍颖",{"$f":"[1]德育成绩!F18","v":{"v":99.26833333333333,"d":"99.2683"}},{"$f":"[1]德育成绩!E18","v":8.8},0,{"$f":"[1]德育成绩!G18","v":{"v":108.06833333333333,"d":"108.0683"}},{"$f":"[1]智育成绩!E18","v":{"v":91.88333333333333,"d":"91.8833"}},{"$f":"[1]智育成绩!F18","v":9.67},0,{"$f":"[1]智育成绩!G18","v":{"v":101.55333333333333,"d":"101.5533"}},{"$f":"[1]体育成绩!C18","v":{"v":99.14238095238096,"d":"99.1424"}},{"$f":"[1]体育成绩!D18","v":0},0,{"$f":"[1]体育成绩!E18","v":{"v":99.14238095238096,"d":"99.1424"}},{"v":102.61523809523808,"d":"102.6152"},3]
["2013217038","李金燕",{"$f":"[1]德育成绩!F5","v":{"v":99.07366666666667,"d":"99.0737"}},{"$f":"[1]德育成绩!E5","v":13.6},0,{"$f":"[1]德育成绩!G5","v":{"v":112.67366666666666,"d":"112.6737"}},{"$f":"[1]智育成绩!E5","v":{"v":88.58,"d":"88.5800"}},{"$f":"[1]智育成绩!F5","v":4},0,{"$f":"[1]智育成绩!G5","v":{"v":92.58,"d":"92.5800"}},{"$f":"[1]体育成绩!C5","v":{"v":99.16809523809522,"d":"99.1681"}},{"$f":"[1]体育成绩!D5","v":2},0,{"$f":"[1]体育成绩!E5","v":{"v":101.16809523809522,"d":"101.1681"}},{"v":97.45754285714285,"d":"97.4575"},4]
["2013217060","余海",{"$f":"[1]德育成绩!F20","v":{"v":99.34400000000001,"d":"99.3440"}},{"$f":"[1]德育成绩!E20","v":8},0,{"$f":"[1]德育成绩!G20","v":{"v":107.34400000000001,"d":"107.3440"}},{"$f":"[1]智育成绩!E20","v":{"v":90.0695652173913,"d":"90.0696"}},{"$f":"[1]智育成绩!F20","v":0},0,{"$f":"[1]智育成绩!G20","v":{"v":90.0695652173913,"d":"90.0696"}},{"$f":"[1]体育成绩!C20","v":{"v":99.43809523809526,"d":"99.4381"}},{"$f":"[1]体育成绩!D20","v":2},0,{"$f":"[1]体育成绩!E20","v":{"v":101.43809523809526,"d":"101.4381"}},{"v":94.66130517598343,"d":"94.6613"},5]
["2013217053","赵蕤升",{"$f":"[1]德育成绩!F14","v":{"v":98.87766666666666,"d":"98.8777"}},{"$f":"[1]德育成绩!E14","v":13},0,{"$f":"[1]德育成绩!G14","v":{"v":111.87766666666666,"d":"111.8777"}},{"$f":"[1]智育成绩!E14","v":{"v":84.69999999999999,"d":"84.7000"}},{"$f":"[1]智育成绩!F14","v":2},0,{"$f":"[1]智育成绩!G14","v":{"v":86.69999999999999,"d":"86.7000"}},{"$f":"[1]体育成绩!C14","v":{"v":99.48095238095237,"d":"99.4810"}},{"$f":"[1]体育成绩!D14","v":16.33},0,{"$f":"[1]体育成绩!E14","v":{"v":115.81095238095237,"d":"115.8110"}},{"v":94.64662857142855,"d":"94.6466"},6]
["2013217049","杨乾",{"$f":"[1]德育成绩!F11","v":{"v":98.762,"d":"98.7620"}},{"$f":"[1]德育成绩!E11","v":5},0,{"$f":"[1]德育成绩!G11","v":{"v":103.762,"d":"103.7620"}},{"$f":"[1]智育成绩!E11","v":{"v":90.78666666666666,"d":"90.7867"}},{"$f":"[1]智育成绩!F11","v":0},0,{"$f":"[1]智育成绩!G11","v":{"v":90.78666666666666,"d":"90.7867"}},{"$f":"[1]体育成绩!C11","v":{"v":99.3104761904762,"d":"99.3105"}},{"$f":"[1]体育成绩!D11","v":2},0,{"$f":"[1]体育成绩!E11","v":{"v":101.3104761904762,"d":"101.3105"}},{"v":94.43411428571429,"d":"94.4341"},7]
["2013217050","乔江丽",{"$f":"[1]德育成绩!F12","v":{"v":99.00066666666666,"d":"99.0007"}},{"$f":"[1]德育成绩!E12","v":3},0,{"$f":"[1]德育成绩!G12","v":{"v":102.00066666666666,"d":"102.0007"}},{"$f":"[1]智育成绩!E12","v":{"v":88.02173913043478,"d":"88.0217"}},{"$f":"[1]智育成绩!F12","v":3.2},0,{"$f":"[1]智育成绩!G12","v":{"v":91.22173913043478,"d":"91.2217"}},{"$f":"[1]体育成绩!C12","v":{"v":99,"d":"99.0000"}},{"$f":"[1]体育成绩!D12","v":2},0,{"$f":"[1]体育成绩!E12","v":{"v":101,"d":"101.0000"}},{"v":94.35535072463767,"d":"94.3554"},8]
["2013217061","周小龙",{"$f":"[1]德育成绩!F21","v":{"v":98.07433333333333,"d":"98.0743"}},{"$f":"[1]德育成绩!E21","v":8},0,{"$f":"[1]德育成绩!G21","v":{"v":106.07433333333333,"d":"106.0743"}},{"$f":"[1]智育成绩!E21","v":{"v":89.6148148148148,"d":"89.6148"}},{"$f":"[1]智育成绩!F21","v":0},0,{"$f":"[1]智育成绩!G21","v":{"v":89.6148148148148,"d":"89.6148"}},{"$f":"[1]体育成绩!C21","v":{"v":99.30619047619047,"d":"99.3062"}},{"$f":"[1]体育成绩!D21","v":2},0,{"$f":"[1]体育成绩!E21","v":{"v":101.30619047619047,"d":"101.3062"}},{"v":94.07585608465608,"d":"94.0759"},9]
["2013217052","王兴萍",{"$f":"[1]德育成绩!F13","v":{"v":99.01366666666667,"d":"99.0137"}},{"$f":"[1]德育成绩!E13","v":9},0,{"$f":"[1]德育成绩!G13","v":{"v":108.01366666666667,"d":"108.0137"}},{"$f":"[1]智育成绩!E13","v":{"v":88.00840336134453,"d":"88.0084"}},{"$f":"[1]智育成绩!F13","v":0},0,{"$f":"[1]智育成绩!G13","v":{"v":88.00840336134453,"d":"88.0084"}},{"$f":"[1]体育成绩!C13","v":{"v":98.99380952380955,"d":"98.9938"}},{"$f":"[1]体育成绩!D13","v":2},0,{"$f":"[1]体育成绩!E13","v":{"v":100.99380952380955,"d":"100.9938"}},{"v":93.30799663865545,"d":"93.3080"},10]
["2013217034","赵入辉",{"$f":"[1]德育成绩!F2","v":{"v":98.75099999999999,"d":"98.7510"}},{"$f":"[1]德育成绩!E2","v":2},0,{"$f":"[1]德育成绩!G2","v":{"v":100.75099999999999,"d":"100.7510"}},{"$f":"[1]智育成绩!E2","v":{"v":88.99615384615385,"d":"88.9962"}},{"$f":"[1]智育成绩!F2","v":1.2},0,{"$f":"[1]智育成绩!G2","v":{"v":90.19615384615385,"d":"90.1962"}},{"$f":"[1]体育成绩!C2","v":{"v":99.02000000000001,"d":"99.0200"}},{"$f":"[1]体育成绩!D2","v":0},0,{"$f":"[1]体育成绩!E2","v":{"v":99.02000000000001,"d":"99.0200"}},{"v":93.18950769230769,"d":"93.1895"},11]
["2013217035","宋利泽",{"$f":"[1]德育成绩!F3","v":{"v":99.07900000000001,"d":"99.0790"}},{"$f":"[1]德育成绩!E3","v":2},0,{"$f":"[1]德育成绩!G3","v":{"v":101.07900000000001,"d":"101.0790"}},{"$f":"[1]智育成绩!E3","v":{"v":88.38148148148147,"d":"88.3815"}},{"$f":"[1]智育成绩!F3","v":1.2},0,{"$f":"[1]智育成绩!G3","v":{"v":89.58148148148148,"d":"89.5815"}},{"$f":"[1]体育成绩!C3","v":{"v":99.46857142857144,"d":"99.4686"}},{"$f":"[1]体育成绩!D3","v":2},0,{"$f":"[1]体育成绩!E3","v":{"v":101.46857142857144,"d":"101.4686"}},{"v":93.06969417989417,"d":"93.0697"},12]
["2013217046","陈越",{"$f":"[1]德育成绩!F9","v":{"v":98.82433333333333,"d":"98.8243"}},{"$f":"[1]德育成绩!E9","v":5},0,{"$f":"[1]德育成绩!G9","v":{"v":103.82433333333333,"d":"103.8243"}},{"$f":"[1]智育成绩!E9","v":{"v":87.48730158730157,"d":"87.4873"}},{"$f":"[1]智育成绩!F9","v":1},0,{"$f":"[1]智育成绩!G9","v":{"v":88.48730158730157,"d":"88.4873"}},{"$f":"[1]体育成绩!C9","v":{"v":99.39619047619047,"d":"99.3962"}},{"$f":"[1]体育成绩!D9","v":2},0,{"$f":"[1]体育成绩!E9","v":{"v":101.39619047619047,"d":"101.3962"}},{"v":92.84559682539681,"d":"92.8456"},13]
["2013217044","张凤",{"$f":"[1]德育成绩!F8","v":{"v":97.75366666666666,"d":"97.7537"}},{"$f":"[1]德育成绩!E8","v":3},0,{"$f":"[1]德育成绩!G8","v":{"v":100.75366666666666,"d":"100.7537"}},{"$f":"[1]智育成绩!E8","v":{"v":87.80384615384615,"d":"87.8038"}},{"$f":"[1]智育成绩!F8","v":0},0,{"$f":"[1]智育成绩!G8","v":{"v":87.80384615384615,"d":"87.8038"}},{"$f":"[1]体育成绩!C8","v":{"v":99.28333333333335,"d":"99.2833"}},{"$f":"[1]体育成绩!D8","v":2},0,{"$f":"[1]体育成绩!E8","v":{"v":101.28333333333335,"d":"101.2833"}},{"v":91.74175897435896,"d":"91.7418"},14]
["2013217054","冯瑜",{"$f":"[1]德育成绩!F15","v":{"v":99.02633333333333,"d":"99.0263"}},{"$f":"[1]德育成绩!E15","v":4},0,{"$f":"[1]德育成绩!G15","v":{"v":103.02633333333333,"d":"103.0263"}},{"$f":"[1]智育成绩!E15","v":{"v":86.7891304347826,"d":"86.7891"}},{"$f":"[1]智育成绩!F15","v":0},0,{"$f":"[1]智育成绩!G15","v":{"v":86.7891304347826,"d":"86.7891"}},{"$f":"[1]体育成绩!C15","v":{"v":99.07999999999997,"d":"99.0800"}},{"$f":"[1]体育成绩!D15","v":2},0,{"$f":"[1]体育成绩!E15","v":{"v":101.07999999999997,"d":"101.0800"}},{"v":91.46565797101448,"d":"91.4657"},15]
["2013217042","王金金",{"$f":"[1]德育成绩!F7","v":{"v":97.71833333333333,"d":"97.7183"}},{"$f":"[1]德育成绩!E7","v":3},0,{"$f":"[1]德育成绩!G7","v":{"v":100.71833333333333,"d":"100.7183"}},{"$f":"[1]智育成绩!E7","v":{"v":87.22068965517241,"d":"87.2207"}},{"$f":"[1]智育成绩!F7","v":0},0,{"$f":"[1]智育成绩!G7","v":{"v":87.22068965517241,"d":"87.2207"}},{"$f":"[1]体育成绩!C7","v":{"v":99.14666666666666,"d":"99.1467"}},{"$f":"[1]体育成绩!D7","v":0},0,{"$f":"[1]体育成绩!E7","v":{"v":99.14666666666666,"d":"99.1467"}},{"v":91.112816091954,"d":"91.1128"},16]
[2011217069,"敖晓文",{"$f":"[1]德育成绩!F25","v":{"v":98.95299999999999,"d":"98.9530"}},{"$f":"[1]德育成绩!E25","v":1},0,{"$f":"[1]德育成绩!G25","v":{"v":99.95299999999999,"d":"99.9530"}},{"$f":"[1]智育成绩!E25","v":{"v":85.19699999999999,"d":"85.1970"}},{"$f":"[1]智育成绩!F25","v":2},0,{"$f":"[1]智育成绩!G25","v":{"v":87.19699999999999,"d":"87.1970"}},{"$f":"[1]体育成绩!C25","v":{"v":99.14904761904762,"d":"99.1490"}},{"$f":"[1]体育成绩!D25","v":0},0,{"$f":"[1]体育成绩!E25","v":{"v":99.14904761904762,"d":"99.1490"}},{"v":90.94340476190474,"d":"90.9434"},17]
["2013217056","陈彦桥",{"$f":"[1]德育成绩!F16","v":{"v":98.70466666666667,"d":"98.7047"}},{"$f":"[1]德育成绩!E16","v":3},0,{"$f":"[1]德育成绩!G16","v":{"v":101.70466666666667,"d":"101.7047"}},{"$f":"[1]智育成绩!E16","v":{"v":85.84666666666665,"d":"85.8467"}},{"$f":"[1]智育成绩!F16","v":0},0,{"$f":"[1]智育成绩!G16","v":{"v":85.84666666666665,"d":"85.8467"}},{"$f":"[1]体育成绩!C16","v":{"v":99.19571428571429,"d":"99.1957"}},{"$f":"[1]体育成绩!D16","v":0},0,{"$f":"[1]体育成绩!E16","v":{"v":99.19571428571429,"d":"99.1957"}},{"v":90.35317142857141,"d":"90.3532"},18]
[2011217047,"李婧",{"$f":"[1]德育成绩!F23","v":{"v":98.72166666666665,"d":"98.7217"}},{"$f":"[1]德育成绩!E23","v":2},0,{"$f":"[1]德育成绩!G23","v":{"v":100.72166666666665,"d":"100.7217"}},{"$f":"[1]智育成绩!E23","v":{"v":85.53399999999999,"d":"85.5340"}},{"$f":"[1]智育成绩!F23","v":0},0,{"$f":"[1]智育成绩!G23","v":{"v":85.53399999999999,"d":"85.5340"}},{"$f":"[1]体育成绩!C23","v":{"v":98.9395238095238,"d":"98.9395"}},{"$f":"[1]体育成绩!D23","v":0},0,{"$f":"[1]体育成绩!E23","v":{"v":98.9395238095238,"d":"98.9395"}},{"v":89.91208571428571,"d":"89.9121"},19]
["2013217048","罗健",{"$f":"[1]德育成绩!F10","v":{"v":98.60266666666666,"d":"98.6027"}},{"$f":"[1]德育成绩!E10","v":2},0,{"$f":"[1]德育成绩!G10","v":{"v":100.60266666666666,"d":"100.6027"}},{"$f":"[1]智育成绩!E10","v":{"v":85.04091454545454,"d":"85.0409"}},{"$f":"[1]智育成绩!F10","v":0},0,{"$f":"[1]智育成绩!G10","v":{"v":85.04091454545454,"d":"85.0409"}},{"$f":"[1]体育成绩!C10","v":{"v":99.41952380952381,"d":"99.4195"}},{"$f":"[1]体育成绩!D10","v":2},0,{"$f":"[1]体育成绩!E10","v":{"v":101.41952380952381,"d":"101.4195"}},{"v":89.79112589610389,"d":"89.7911"},20]
["2013217040","刘骁晗",{"$f":"[1]德育成绩!F6","v":{"v":98.74133333333334,"d":"98.7413"}},{"$f":"[1]德育成绩!E6","v":7},0,{"$f":"[1]德育成绩!G6","v":{"v":105.74133333333334,"d":"105.7413"}},{"$f":"[1]智育成绩!E6","v":{"v":78.59239130434783,"d":"78.5924"}},{"$f":"[1]智育成绩!F6","v":0},0,{"$f":"[1]智育成绩!G6","v":{"v":78.59239130434783,"d":"78.5924"}},{"$f":"[1]体育成绩!C6","v":{"v":99.60904761904762,"d":"99.6090"}},{"$f":"[1]体育成绩!D6","v":33},0,{"$f":"[1]体育成绩!E6","v":{"v":132.6090476190476,"d":"132.6090"}},{"v":89.4238453416149,"d":"89.4238"},21]
[2011217073,"李少芳",{"$f":"[1]德育成绩!F24","v":{"v":97.52,"d":"97.5200"}},{"$f":"[1]德育成绩!E24","v":1},0,{"$f":"[1]德育成绩!G24","v":{"v":98.52,"d":"98.5200"}},{"$f":"[1]智育成绩!E24","v":{"v":81.624,"d":"81.6240"}},{"$f":"[1]智育成绩!F24","v":0},0,{"$f":"[1]智育成绩!G24","v":{"v":81.624,"d":"81.6240"}},{"$f":"[1]体育成绩!C24","v":{"v":99.06809523809522,"d":"99.0681"}},{"$f":"[1]体育成绩!D24","v":0},0,{"$f":"[1]体育成绩!E24","v":{"v":99.06809523809522,"d":"99.0681"}},{"v":86.74760952380953,"d":"86.7476"},22]
["2013217059","刘璨",{"$f":"[1]德育成绩!F19","v":{"v":98.63166666666666,"d":"98.6317"}},{"$f":"[1]德育成绩!E19","v":1},0,{"$f":"[1]德育成绩!G19","v":{"v":99.63166666666666,"d":"99.6317"}},{"$f":"[1]智育成绩!E19","v":{"v":80.42083333333332,"d":"80.4208"}},{"$f":"[1]智育成绩!F19","v":0},0,{"$f":"[1]智育成绩!G19","v":{"v":80.42083333333332,"d":"80.4208"}},{"$f":"[1]体育成绩!C19","v":{"v":99.11761904761906,"d":"99.1176"}},{"$f":"[1]体育成绩!D19","v":2},0,{"$f":"[1]体育成绩!E19","v":{"v":101.11761904761906,"d":"101.1176"}},{"v":86.33267857142856,"d":"86.3327"},23]