{"text_format":"3","workbook":"xlsx","n_sheets":1,"sheets":["Sheet1"],"not_rendered":{"external_links":1},"read":"whole","date_system":"1900"}

{"sheet":"Sheet1","index":0,"n_rows":77,"n_cols":8,"rows_kept":77,"merged":[[0,0,0,7]]}
["2024年外国语学院23级英语专业综合测评成绩"]
["序号","学号","姓名","德育总成绩","智育总成绩","体育总成绩","必修课优良率%","综合测评成绩"]
[1,2023012291,"于昕弘",{"$f":"'[1]6德育成绩'!H71","v":{"v":128.7,"d":"128.70"}},{"$f":"'[1]4智育成绩'!G71","v":{"v":97.3351254480287,"d":"97.34"}},{"$f":"'[1]8体育加分细则'!R71","v":{"v":105,"d":"105.00"}},{"$f":"'[1]9智育-必修'!X74","v":{"v":0.947368421052632,"d":"94.74%"}},{"$f":"D3*0.2+E3*0.7+F3*0.1","v":{"v":104.37458781362,"d":"104.37"}}]
[2,2023012264,"王易珈",{"$f":"'[1]6德育成绩'!H45","v":{"v":119,"d":"119.00"}},{"$f":"'[1]4智育成绩'!G45","v":{"v":100.203225806452,"d":"100.20"}},{"$f":"'[1]8体育加分细则'!R45","v":{"v":90.5,"d":"90.50"}},{"$f":"'[1]9智育-必修'!X48","v":{"v":1,"d":"100.00%"}},{"v":102.992258064516,"d":"102.99"}]
[3,2023012265,"杨韵晗",{"$f":"'[1]6德育成绩'!H46","v":{"v":125.5,"d":"125.50"}},{"$f":"'[1]4智育成绩'!G46","v":{"v":96.9331797235023,"d":"96.93"}},{"$f":"'[1]8体育加分细则'!R46","v":{"v":97,"d":"97.00"}},{"$f":"'[1]9智育-必修'!X49","v":{"v":1,"d":"100.00%"}},{"v":102.653225806452,"d":"102.65"}]
[4,2023012289,"叶芷晴",{"$f":"'[1]6德育成绩'!H69","v":{"v":122.3,"d":"122.30"}},{"$f":"'[1]4智育成绩'!G69","v":{"v":95.3145161290323,"d":"95.31"}},{"$f":"'[1]8体育加分细则'!R69","v":{"v":105.5,"d":"105.50"}},{"$f":"'[1]9智育-必修'!X72","v":{"v":1,"d":"100.00%"}},{"v":101.730161290323,"d":"101.73"}]
[5,2023012282,"刘静轩",{"$f":"'[1]6德育成绩'!H63","v":{"v":116.8,"d":"116.80"}},{"$f":"'[1]4智育成绩'!G63","v":{"v":97.0958525345622,"d":"97.10"}},{"$f":"'[1]8体育加分细则'!R63","v":{"v":88,"d":"88.00"}},{"$f":"'[1]9智育-必修'!X66","v":{"v":1,"d":"100.00%"}},{"v":100.127096774194,"d":"100.13"}]
[6,2023012219,"李思远",{"$f":"'[1]6德育成绩'!H5","v":{"v":113.5,"d":"113.50"}},{"$f":"'[1]4智育成绩'!G5","v":{"v":93.710599078341,"d":"93.71"}},{"$f":"'[1]8体育加分细则'!R5","v":{"v":117.5,"d":"117.50"}},{"$f":"'[1]9智育-必修'!X8","v":{"v":1,"d":"100.00%"}},{"v":100.047419354839,"d":"100.05"}]
[7,2023012287,"杨金美",{"$f":"'[1]6德育成绩'!H67","v":{"v":128,"d":"128.00"}},{"$f":"'[1]4智育成绩'!G67","v":{"v":91.7074702886248,"d":"91.71"}},{"$f":"'[1]8体育加分细则'!R67","v":{"v":92,"d":"92.00"}},{"$f":"'[1]9智育-必修'!X70","v":{"v":1,"d":"100.00%"}},{"v":98.9952292020374,"d":"99.00"}]
[8,2023012284,"邵子涵",{"$f":"'[1]6德育成绩'!H64","v":{"v":128.8,"d":"128.80"}},{"$f":"'[1]4智育成绩'!G64","v":{"v":90.1054545454545,"d":"90.11"}},{"$f":"'[1]8体育加分细则'!R64","v":{"v":95.5,"d":"95.50"}},{"$f":"'[1]9智育-必修'!X67","v":{"v":0.944444444444444,"d":"94.44%"}},{"v":98.3838181818181,"d":"98.38"}]
[9,2023012285,"申怡文",{"$f":"'[1]6德育成绩'!H65","v":{"v":121.8,"d":"121.80"}},{"$f":"'[1]4智育成绩'!G65","v":{"v":91.4483870967742,"d":"91.45"}},{"$f":"'[1]8体育加分细则'!R65","v":{"v":89.5,"d":"89.50"}},{"$f":"'[1]9智育-必修'!X68","v":{"v":1,"d":"100.00%"}},{"v":97.3238709677419,"d":"97.32"}]
[10,2023012286,"苏欣瑜",{"$f":"'[1]6德育成绩'!H66","v":{"v":118.5,"d":"118.50"}},{"$f":"'[1]4智育成绩'!G66","v":{"v":92.1185483870968,"d":"92.12"}},{"$f":"'[1]8体育加分细则'!R66","v":{"v":88.5,"d":"88.50"}},{"$f":"'[1]9智育-必修'!X69","v":{"v":0.947368421052632,"d":"94.74%"}},{"v":97.0329838709678,"d":"97.03"}]
[11,2023012288,"叶炜婧",{"$f":"'[1]6德育成绩'!H68","v":{"v":128.3,"d":"128.30"}},{"$f":"'[1]4智育成绩'!G68","v":{"v":87.7206451612903,"d":"87.72"}},{"$f":"'[1]8体育加分细则'!R68","v":{"v":94.5,"d":"94.50"}},{"$f":"'[1]9智育-必修'!X71","v":{"v":0.947368421052632,"d":"94.74%"}},{"v":96.5144516129032,"d":"96.51"}]
[12,2023012254,"鲍梦潇",{"$f":"'[1]6德育成绩'!H36","v":{"v":118.5,"d":"118.50"}},{"$f":"'[1]4智育成绩'!G36","v":{"v":91.4677419354839,"d":"91.47"}},{"$f":"'[1]8体育加分细则'!R36","v":{"v":87,"d":"87.00"}},{"$f":"'[1]9智育-必修'!X39","v":{"v":1,"d":"100.00%"}},{"v":96.4274193548387,"d":"96.43"}]
[13,2023012257,"何颖华",{"$f":"'[1]6德育成绩'!H39","v":{"v":116.2,"d":"116.20"}},{"$f":"'[1]4智育成绩'!G39","v":{"v":88.9016129032258,"d":"88.90"}},{"$f":"'[1]8体育加分细则'!R39","v":{"v":106.5,"d":"106.50"}},{"$f":"'[1]9智育-必修'!X42","v":{"v":0.947368421052632,"d":"94.74%"}},{"v":96.1211290322581,"d":"96.12"}]
[14,2023012244,"徐可欣",{"$f":"'[1]6德育成绩'!H26","v":{"v":123.7,"d":"123.70"}},{"$f":"'[1]4智育成绩'!G26","v":{"v":88.0387096774193,"d":"88.04"}},{"$f":"'[1]8体育加分细则'!R26","v":{"v":97.5,"d":"97.50"}},{"$f":"'[1]9智育-必修'!X29","v":{"v":0.894736842105263,"d":"89.47%"}},{"v":96.1170967741935,"d":"96.12"}]
[15,2023012217,"彭宝缘",{"$f":"'[1]6德育成绩'!H3","v":{"v":117.1,"d":"117.10"}},{"$f":"'[1]4智育成绩'!G3","v":{"v":89.3576036866359,"d":"89.36"}},{"$f":"'[1]8体育加分细则'!R3","v":{"v":99.5,"d":"99.50"}},{"$f":"'[1]9智育-必修'!X6","v":{"v":0.947368421052632,"d":"94.74%"}},{"v":95.9203225806451,"d":"95.92"}]
[16,2023012224,"王心雨",{"$f":"'[1]6德育成绩'!H10","v":{"v":121.7,"d":"121.70"}},{"$f":"'[1]4智育成绩'!G10","v":{"v":87.7922222222222,"d":"87.79"}},{"$f":"'[1]8体育加分细则'!R10","v":{"v":99.5,"d":"99.50"}},{"$f":"'[1]9智育-必修'!X13","v":{"v":0.833333333333333,"d":"83.33%"}},{"v":95.7445555555555,"d":"95.74"}]
[17,2023012261,"明心怡",{"$f":"'[1]6德育成绩'!H42","v":{"v":114,"d":"114.00"}},{"$f":"'[1]4智育成绩'!G42","v":{"v":90.7135483870968,"d":"90.71"}},{"$f":"'[1]8体育加分细则'!R42","v":{"v":94,"d":"94.00"}},{"$f":"'[1]9智育-必修'!X45","v":{"v":1,"d":"100.00%"}},{"v":95.6994838709678,"d":"95.70"}]
[18,2023012272,"张钰涵",{"$f":"'[1]6德育成绩'!H53","v":123.01},{"$f":"'[1]4智育成绩'!G53","v":{"v":87.0322580645162,"d":"87.03"}},{"$f":"'[1]8体育加分细则'!R53","v":{"v":98,"d":"98.00"}},{"$f":"'[1]9智育-必修'!X56","v":{"v":1,"d":"100.00%"}},{"v":95.3245806451613,"d":"95.32"}]
[19,2023012274,"姜振宇",{"$f":"'[1]6德育成绩'!H55","v":{"v":116,"d":"116.00"}},{"$f":"'[1]4智育成绩'!G55","v":{"v":89.6623655913978,"d":"89.66"}},{"$f":"'[1]8体育加分细则'!R55","v":{"v":93.5,"d":"93.50"}},{"$f":"'[1]9智育-必修'!X58","v":{"v":0.947368421052632,"d":"94.74%"}},{"v":95.3136559139785,"d":"95.31"}]
[20,2023012220,"党宇艳",{"$f":"'[1]6德育成绩'!H6","v":{"v":119.8,"d":"119.80"}},{"$f":"'[1]4智育成绩'!G6","v":{"v":88.2650853889943,"d":"88.27"}},{"$f":"'[1]8体育加分细则'!R6","v":{"v":95,"d":"95.00"}},{"$f":"'[1]9智育-必修'!X9","v":{"v":1,"d":"100.00%"}},{"v":95.245559772296,"d":"95.25"}]
[21,2023012251,"边子淇",{"$f":"'[1]6德育成绩'!H33","v":{"v":122.8,"d":"122.80"}},{"$f":"'[1]4智育成绩'!G33","v":{"v":87.0436363636364,"d":"87.04"}},{"$f":"'[1]8体育加分细则'!R33","v":{"v":95,"d":"95.00"}},{"$f":"'[1]9智育-必修'!X36","v":{"v":0.944444444444444,"d":"94.44%"}},{"v":94.9905454545455,"d":"94.99"}]
[22,2023012245,"王小丹",{"$f":"'[1]6德育成绩'!H27","v":{"v":123,"d":"123.00"}},{"$f":"'[1]4智育成绩'!G27","v":{"v":87.8159392789374,"d":"87.82"}},{"$f":"'[1]8体育加分细则'!R27","v":{"v":88,"d":"88.00"}},{"$f":"'[1]9智育-必修'!X30","v":{"v":0.894736842105263,"d":"89.47%"}},{"v":94.8711574952562,"d":"94.87"}]
[23,2023012268,"马亦乐",{"$f":"'[1]6德育成绩'!H49","v":{"v":114.6,"d":"114.60"}},{"$f":"'[1]4智育成绩'!G49","v":{"v":89.0903225806451,"d":"89.09"}},{"$f":"'[1]8体育加分细则'!R49","v":{"v":92,"d":"92.00"}},{"$f":"'[1]9智育-必修'!X52","v":{"v":1,"d":"100.00%"}},{"v":94.4832258064516,"d":"94.48"}]
[24,2023012246,"龙嘉怡",{"$f":"'[1]6德育成绩'!H28","v":{"v":114.8,"d":"114.80"}},{"$f":"'[1]4智育成绩'!G28","v":{"v":88.131797235023,"d":"88.13"}},{"$f":"'[1]8体育加分细则'!R28","v":{"v":98,"d":"98.00"}},{"$f":"'[1]9智育-必修'!X31","v":{"v":1,"d":"100.00%"}},{"v":94.4522580645161,"d":"94.45"}]
[25,2023012293,"宋平",{"$f":"'[1]6德育成绩'!H73","v":{"v":107.5,"d":"107.50"}},{"$f":"'[1]4智育成绩'!G73","v":{"v":91.1964285714286,"d":"91.20"}},{"$f":"'[1]8体育加分细则'!R73","v":{"v":89,"d":"89.00"}},{"$f":"'[1]9智育-必修'!X76","v":{"v":1,"d":"100.00%"}},{"v":94.2375,"d":"94.24"}]
[26,2023012218,"冯茜",{"$f":"'[1]6德育成绩'!H4","v":{"v":118.8,"d":"118.80"}},{"$f":"'[1]4智育成绩'!G4","v":{"v":87.2829749103943,"d":"87.28"}},{"$f":"'[1]8体育加分细则'!R4","v":{"v":93,"d":"93.00"}},{"$f":"'[1]9智育-必修'!X7","v":{"v":1,"d":"100.00%"}},{"v":94.158082437276,"d":"94.16"}]
[27,2023012275,"徐嘉惠",{"$f":"'[1]6德育成绩'!H56","v":{"v":113.3,"d":"113.30"}},{"$f":"'[1]4智育成绩'!G56","v":{"v":89.3827956989248,"d":"89.38"}},{"$f":"'[1]8体育加分细则'!R56","v":{"v":83,"d":"83.00"}},{"$f":"'[1]9智育-必修'!X59","v":{"v":1,"d":"100.00%"}},{"v":93.5279569892473,"d":"93.53"}]
[28,2023012277,"王筱淇",{"$f":"'[1]6德育成绩'!H58","v":{"v":114,"d":"114.00"}},{"$f":"'[1]4智育成绩'!G58","v":{"v":87.2464516129032,"d":"87.25"}},{"$f":"'[1]8体育加分细则'!R58","v":{"v":95,"d":"95.00"}},{"$f":"'[1]9智育-必修'!X61","v":{"v":0.947368421052632,"d":"94.74%"}},{"v":93.3725161290322,"d":"93.37"}]
[29,2023012255,"陈佳怡",{"$f":"'[1]6德育成绩'!H37","v":{"v":117.7,"d":"117.70"}},{"$f":"'[1]4智育成绩'!G37","v":{"v":86.2241935483871,"d":"86.22"}},{"$f":"'[1]8体育加分细则'!R37","v":{"v":92.5,"d":"92.50"}},{"$f":"'[1]9智育-必修'!X40","v":{"v":1,"d":"100.00%"}},{"v":93.146935483871,"d":"93.15"}]
[30,2023012295,"樊佑涵",{"$f":"'[1]6德育成绩'!H75","v":{"v":114,"d":"114.00"}},{"$f":"'[1]4智育成绩'!G75","v":{"v":89.547465437788,"d":"89.55"}},{"$f":"'[1]8体育加分细则'!R75","v":{"v":75.5,"d":"75.50"}},{"$f":"'[1]9智育-必修'!X78","v":{"v":1,"d":"100.00%"}},{"v":93.0332258064516,"d":"93.03"}]
[31,2023012276,"王雅熙",{"$f":"'[1]6德育成绩'!H57","v":{"v":115.6,"d":"115.60"}},{"$f":"'[1]4智育成绩'!G57","v":{"v":86.433064516129,"d":"86.43"}},{"$f":"'[1]8体育加分细则'!R57","v":{"v":92,"d":"92.00"}},{"$f":"'[1]9智育-必修'!X60","v":{"v":1,"d":"100.00%"}},{"v":92.8231451612903,"d":"92.82"}]
[32,2023012262,"孙萌",{"$f":"'[1]6德育成绩'!H43","v":{"v":113,"d":"113.00"}},{"$f":"'[1]4智育成绩'!G43","v":{"v":87.2213709677419,"d":"87.22"}},{"$f":"'[1]8体育加分细则'!R43","v":{"v":89.5,"d":"89.50"}},{"$f":"'[1]9智育-必修'!X46","v":{"v":0.947368421052632,"d":"94.74%"}},{"v":92.6049596774193,"d":"92.60"}]
[33,2023012260,"刘雅琳",{"$f":"'[1]6德育成绩'!H41","v":{"v":112.7,"d":"112.70"}},{"$f":"'[1]4智育成绩'!G41","v":{"v":86.8851612903226,"d":"86.89"}},{"$f":"'[1]8体育加分细则'!R41","v":{"v":91.5,"d":"91.50"}},{"$f":"'[1]9智育-必修'!X44","v":{"v":0.947368421052632,"d":"94.74%"}},{"v":92.5096129032258,"d":"92.51"}]
[34,2023012228,"陈欣玥",{"$f":"'[1]6德育成绩'!H14","v":{"v":122.5,"d":"122.50"}},{"$f":"'[1]4智育成绩'!G14","v":{"v":85.0404692082111,"d":"85.04"}},{"$f":"'[1]8体育加分细则'!R14","v":{"v":84,"d":"84.00"}},{"$f":"'[1]9智育-必修'!X17","v":{"v":0.894736842105263,"d":"89.47%"}},{"v":92.4283284457478,"d":"92.43"}]
[35,2023012238,"赵宇鑫",{"$f":"'[1]6德育成绩'!H22","v":114.05},{"$f":"'[1]4智育成绩'!G22","v":{"v":86.7503225806452,"d":"86.75"}},{"$f":"'[1]8体育加分细则'!R22","v":{"v":87.5,"d":"87.50"}},{"$f":"'[1]9智育-必修'!X25","v":{"v":0.894736842105263,"d":"89.47%"}},{"v":92.2852258064516,"d":"92.29"}]
[36,2023012222,"罗永茜",{"$f":"'[1]6德育成绩'!H8","v":110.75},{"$f":"'[1]4智育成绩'!G8","v":{"v":85.4107526881721,"d":"85.41"}},{"$f":"'[1]8体育加分细则'!R8","v":{"v":102.5,"d":"102.50"}},{"$f":"'[1]9智育-必修'!X11","v":{"v":0.894736842105263,"d":"89.47%"}},{"v":92.1875268817205,"d":"92.19"}]
[37,2023012281,"陈伊利",{"$f":"'[1]6德育成绩'!H62","v":{"v":120.5,"d":"120.50"}},{"$f":"'[1]4智育成绩'!G62","v":{"v":82.8698924731183,"d":"82.87"}},{"$f":"'[1]8体育加分细则'!R62","v":{"v":99,"d":"99.00"}},{"$f":"'[1]9智育-必修'!X65","v":{"v":0.789473684210526,"d":"78.95%"}},{"v":92.0089247311828,"d":"92.01"}]
[38,2023012267,"王锦星",{"$f":"'[1]6德育成绩'!H48","v":{"v":122.2,"d":"122.20"}},{"$f":"'[1]4智育成绩'!G48","v":{"v":85.1111111111111,"d":"85.11"}},{"$f":"'[1]8体育加分细则'!R48","v":{"v":79,"d":"79.00"}},{"$f":"'[1]9智育-必修'!X51","v":{"v":1,"d":"100.00%"}},{"v":91.9177777777778,"d":"91.92"}]
[39,2023012292,"郗一郎",{"$f":"'[1]6德育成绩'!H72","v":{"v":118.5,"d":"118.50"}},{"$f":"'[1]4智育成绩'!G72","v":{"v":85.0185483870968,"d":"85.02"}},{"$f":"'[1]8体育加分细则'!R72","v":{"v":82,"d":"82.00"}},{"$f":"'[1]9智育-必修'!X75","v":{"v":0.888888888888889,"d":"88.89%"}},{"v":91.4129838709678,"d":"91.41"}]
[40,2023012230,"邓超群",{"$f":"'[1]6德育成绩'!H16","v":118.55},{"$f":"'[1]4智育成绩'!G16","v":{"v":84.0354838709677,"d":"84.04"}},{"$f":"'[1]8体育加分细则'!R16","v":{"v":81.5,"d":"81.50"}},{"$f":"'[1]9智育-必修'!X19","v":{"v":0.684210526315789,"d":"68.42%"}},{"v":90.6848387096774,"d":"90.68"}]
[41,2023012247,"吴珊珊",{"$f":"'[1]6德育成绩'!H29","v":{"v":112,"d":"112.00"}},{"$f":"'[1]4智育成绩'!G29","v":{"v":84.0650537634409,"d":"84.07"}},{"$f":"'[1]8体育加分细则'!R29","v":{"v":94,"d":"94.00"}},{"$f":"'[1]9智育-必修'!X32","v":{"v":0.947368421052632,"d":"94.74%"}},{"v":90.6455376344086,"d":"90.65"}]
[42,2023012296,"肖伟",{"$f":"'[1]6德育成绩'!H76","v":{"v":130.2,"d":"130.20"}},{"$f":"'[1]4智育成绩'!G76","v":{"v":80.4871794871795,"d":"80.49"}},{"$f":"'[1]8体育加分细则'!R76","v":{"v":82.5,"d":"82.50"}},{"$f":"'[1]9智育-必修'!X79","v":{"v":0.722222222222222,"d":"72.22%"}},{"v":90.6310256410256,"d":"90.63"}]
[43,2023012232,"李佳萍",{"$f":"'[1]6德育成绩'!H18","v":{"v":121,"d":"121.00"}},{"$f":"'[1]4智育成绩'!G18","v":{"v":82.9426523297491,"d":"82.94"}},{"$f":"'[1]8体育加分细则'!R18","v":{"v":83.5,"d":"83.50"}},{"$f":"'[1]9智育-必修'!X21","v":{"v":0.842105263157895,"d":"84.21%"}},{"v":90.6098566308244,"d":"90.61"}]
[44,2023012294,"姚俊羽",{"$f":"'[1]6德育成绩'!H74","v":{"v":110,"d":"110.00"}},{"$f":"'[1]4智育成绩'!G74","v":{"v":86.1193548387097,"d":"86.12"}},{"$f":"'[1]8体育加分细则'!R74","v":{"v":82,"d":"82.00"}},{"$f":"'[1]9智育-必修'!X77","v":{"v":1,"d":"100.00%"}},{"v":90.4835483870968,"d":"90.48"}]
[45,2023012237,"张晓宇",{"$f":"'[1]6德育成绩'!H21","v":115.65},{"$f":"'[1]4智育成绩'!G21","v":{"v":83.7972350230415,"d":"83.80"}},{"$f":"'[1]8体育加分细则'!R21","v":{"v":86,"d":"86.00"}},{"$f":"'[1]9智育-必修'!X24","v":{"v":0.894736842105263,"d":"89.47%"}},{"v":90.388064516129,"d":"90.39"}]
[46,2023012270,"吴一鸣",{"$f":"'[1]6德育成绩'!H51","v":{"v":105,"d":"105.00"}},{"$f":"'[1]4智育成绩'!G51","v":{"v":89.6903225806451,"d":"89.69"}},{"$f":"'[1]8体育加分细则'!R51","v":{"v":65.5,"d":"65.50"}},{"$f":"'[1]9智育-必修'!X54","v":{"v":1,"d":"100.00%"}},{"v":90.3332258064516,"d":"90.33"}]
[47,2023012242,"李淦",{"$f":"'[1]6德育成绩'!H24","v":{"v":105,"d":"105.00"}},{"$f":"'[1]4智育成绩'!G24","v":{"v":86.0550537634409,"d":"86.06"}},{"$f":"'[1]8体育加分细则'!R24","v":{"v":90.5,"d":"90.50"}},{"$f":"'[1]9智育-必修'!X27","v":{"v":0.947368421052632,"d":"94.74%"}},{"v":90.2885376344086,"d":"90.29"}]
[48,2023012221,"何怡瑾",{"$f":"'[1]6德育成绩'!H7","v":119.25},{"$f":"'[1]4智育成绩'!G7","v":{"v":81.9520488230166,"d":"81.95"}},{"$f":"'[1]8体育加分细则'!R7","v":{"v":90.5,"d":"90.50"}},{"$f":"'[1]9智育-必修'!X10","v":{"v":0.842105263157895,"d":"84.21%"}},{"v":90.2664341761116,"d":"90.27"}]
[49,2023012226,"孙僮",{"$f":"'[1]6德育成绩'!H12","v":{"v":118.8,"d":"118.80"}},{"$f":"'[1]4智育成绩'!G12","v":{"v":83.6406947890819,"d":"83.64"}},{"$f":"'[1]8体育加分细则'!R12","v":{"v":77,"d":"77.00"}},{"$f":"'[1]9智育-必修'!X15","v":{"v":0.789473684210526,"d":"78.95%"}},{"v":90.0084863523573,"d":"90.01"}]
[50,2023012253,"郭江雪",{"$f":"'[1]6德育成绩'!H35","v":{"v":114.8,"d":"114.80"}},{"$f":"'[1]4智育成绩'!G35","v":{"v":84.6304147465438,"d":"84.63"}},{"$f":"'[1]8体育加分细则'!R35","v":{"v":78,"d":"78.00"}},{"$f":"'[1]9智育-必修'!X38","v":{"v":0.894736842105263,"d":"89.47%"}},{"v":90.0012903225807,"d":"90.00"}]
[51,2023012234,"马薪蕊",{"$f":"'[1]6德育成绩'!H19","v":{"v":115.8,"d":"115.80"}},{"$f":"'[1]4智育成绩'!G19","v":{"v":83.6655913978495,"d":"83.67"}},{"$f":"'[1]8体育加分细则'!R19","v":{"v":81,"d":"81.00"}},{"$f":"'[1]9智育-必修'!X22","v":{"v":0.789473684210526,"d":"78.95%"}},{"v":89.8259139784946,"d":"89.83"}]
[52,2023012231,"谷宇欣",{"$f":"'[1]6德育成绩'!H17","v":116.55},{"$f":"'[1]4智育成绩'!G17","v":{"v":83.1606451612903,"d":"83.16"}},{"$f":"'[1]8体育加分细则'!R17","v":{"v":83,"d":"83.00"}},{"$f":"'[1]9智育-必修'!X20","v":{"v":0.842105263157895,"d":"84.21%"}},{"v":89.8224516129032,"d":"89.82"}]
[53,2023012263,"王思琪",{"$f":"'[1]6德育成绩'!H44","v":{"v":105.5,"d":"105.50"}},{"$f":"'[1]4智育成绩'!G44","v":{"v":86.1543424317618,"d":"86.15"}},{"$f":"'[1]8体育加分细则'!R44","v":{"v":83.5,"d":"83.50"}},{"$f":"'[1]9智育-必修'!X47","v":{"v":0.947368421052632,"d":"94.74%"}},{"v":89.7580397022332,"d":"89.76"}]
[54,2023012271,"杨宝兰",{"$f":"'[1]6德育成绩'!H52","v":{"v":121.3,"d":"121.30"}},{"$f":"'[1]4智育成绩'!G52","v":{"v":81.1047146401985,"d":"81.10"}},{"$f":"'[1]8体育加分细则'!R52","v":{"v":86.5,"d":"86.50"}},{"$f":"'[1]9智育-必修'!X55","v":{"v":0.631578947368421,"d":"63.16%"}},{"v":89.6833002481389,"d":"89.68"}]
[55,2023012250,"陶丽颖",{"$f":"'[1]6德育成绩'!H32","v":{"v":112.5,"d":"112.50"}},{"$f":"'[1]4智育成绩'!G32","v":{"v":82.1236559139785,"d":"82.12"}},{"$f":"'[1]8体育加分细则'!R32","v":{"v":95,"d":"95.00"}},{"$f":"'[1]9智育-必修'!X35","v":{"v":0.736842105263158,"d":"73.68%"}},{"v":89.4865591397849,"d":"89.49"}]
[56,2023012229,"陈羽星",{"$f":"'[1]6德育成绩'!H15","v":{"v":113.9,"d":"113.90"}},{"$f":"'[1]4智育成绩'!G15","v":{"v":81.2595533498759,"d":"81.26"}},{"$f":"'[1]8体育加分细则'!R15","v":{"v":89,"d":"89.00"}},{"$f":"'[1]9智育-必修'!X18","v":{"v":0.789473684210526,"d":"78.95%"}},{"v":88.5616873449131,"d":"88.56"}]
[57,2023012290,"于涵",{"$f":"'[1]6德育成绩'!H70","v":{"v":108,"d":"108.00"}},{"$f":"'[1]4智育成绩'!G70","v":{"v":84.3516129032258,"d":"84.35"}},{"$f":"'[1]8体育加分细则'!R70","v":{"v":77,"d":"77.00"}},{"$f":"'[1]9智育-必修'!X73","v":{"v":0.842105263157895,"d":"84.21%"}},{"v":88.3461290322581,"d":"88.35"}]
[58,2023012249,"塞尔威娜孜·阿不都热西提",{"$f":"'[1]6德育成绩'!H31","v":{"v":122.2,"d":"122.20"}},{"$f":"'[1]4智育成绩'!G31","v":{"v":78.7604838709677,"d":"78.76"}},{"$f":"'[1]8体育加分细则'!R31","v":{"v":86.5,"d":"86.50"}},{"$f":"'[1]9智育-必修'!X34","v":{"v":0.684210526315789,"d":"68.42%"}},{"v":88.2223387096774,"d":"88.22"}]
[59,2023012256,"杜雪阳",{"$f":"'[1]6德育成绩'!H38","v":{"v":111.5,"d":"111.50"}},{"$f":"'[1]4智育成绩'!G38","v":{"v":82.7202764976959,"d":"82.72"}},{"$f":"'[1]8体育加分细则'!R38","v":{"v":78,"d":"78.00"}},{"$f":"'[1]9智育-必修'!X41","v":{"v":0.736842105263158,"d":"73.68%"}},{"v":88.0041935483871,"d":"88.00"}]
[60,2023012248,"佟菲",{"$f":"'[1]6德育成绩'!H30","v":{"v":121,"d":"121.00"}},{"$f":"'[1]4智育成绩'!G30","v":{"v":80.1856630824373,"d":"80.19"}},{"$f":"'[1]8体育加分细则'!R30","v":{"v":76,"d":"76.00"}},{"$f":"'[1]9智育-必修'!X33","v":{"v":0.631578947368421,"d":"63.16%"}},{"v":87.9299641577061,"d":"87.93"}]
[61,2023012223,"马冰欣",{"$f":"'[1]6德育成绩'!H9","v":{"v":114,"d":"114.00"}},{"$f":"'[1]4智育成绩'!G9","v":{"v":79.8587096774194,"d":"79.86"}},{"$f":"'[1]8体育加分细则'!R9","v":{"v":90.5,"d":"90.50"}},{"$f":"'[1]9智育-必修'!X12","v":{"v":0.684210526315789,"d":"68.42%"}},{"v":87.7510967741936,"d":"87.75"}]
[62,2023012280,"李卓鸿",{"$f":"'[1]6德育成绩'!H61","v":{"v":116.5,"d":"116.50"}},{"$f":"'[1]4智育成绩'!G61","v":{"v":79.9354838709678,"d":"79.94"}},{"$f":"'[1]8体育加分细则'!R61","v":{"v":84.5,"d":"84.50"}},{"$f":"'[1]9智育-必修'!X64","v":{"v":0.684210526315789,"d":"68.42%"}},{"v":87.7048387096775,"d":"87.70"}]
[63,2023012240,"徐硕",{"$f":"'[1]6德育成绩'!H23","v":{"v":125.5,"d":"125.50"}},{"$f":"'[1]4智育成绩'!G23","v":{"v":78.9824372759857,"d":"78.98"}},{"$f":"'[1]8体育加分细则'!R23","v":{"v":73,"d":"73.00"}},{"$f":"'[1]9智育-必修'!X26","v":{"v":0.631578947368421,"d":"63.16%"}},{"v":87.68770609319,"d":"87.69"}]
[64,2023012269,"范昊鑫",{"$f":"'[1]6德育成绩'!H50","v":{"v":108.5,"d":"108.50"}},{"$f":"'[1]4智育成绩'!G50","v":{"v":82.2516129032258,"d":"82.25"}},{"$f":"'[1]8体育加分细则'!R50","v":{"v":82,"d":"82.00"}},{"$f":"'[1]9智育-必修'!X53","v":{"v":0.894736842105263,"d":"89.47%"}},{"v":87.4761290322581,"d":"87.48"}]
[65,2023012252,"蒋艺萌",{"$f":"'[1]6德育成绩'!H34","v":{"v":112,"d":"112.00"}},{"$f":"'[1]4智育成绩'!G34","v":{"v":80.6043010752688,"d":"80.60"}},{"$f":"'[1]8体育加分细则'!R34","v":{"v":84.5,"d":"84.50"}},{"$f":"'[1]9智育-必修'!X37","v":{"v":0.684210526315789,"d":"68.42%"}},{"$f":"D67*0.2+E67*0.7+F67*0.1","v":{"v":87.2730107526882,"d":"87.27"}}]
[66,2023012273,"王潇楠",{"$f":"'[1]6德育成绩'!H54","v":{"v":115.6,"d":"115.60"}},{"$f":"'[1]4智育成绩'!G54","v":{"v":79.5365591397849,"d":"79.54"}},{"$f":"'[1]8体育加分细则'!R54","v":{"v":83.5,"d":"83.50"}},{"$f":"'[1]9智育-必修'!X57","v":{"v":0.736842105263158,"d":"73.68%"}},{"v":87.1455913978494,"d":"87.15"}]
[67,2023012266,"琚子豪",{"$f":"'[1]6德育成绩'!H47","v":{"v":115.8,"d":"115.80"}},{"$f":"'[1]4智育成绩'!G47","v":{"v":80.4576850094876,"d":"80.46"}},{"$f":"'[1]8体育加分细则'!R47","v":{"v":76.5,"d":"76.50"}},{"$f":"'[1]9智育-必修'!X50","v":{"v":0.736842105263158,"d":"73.68%"}},{"v":87.1303795066413,"d":"87.13"}]
[68,2023012227,"孙佳琪",{"$f":"'[1]6德育成绩'!H13","v":{"v":114.3,"d":"114.30"}},{"$f":"'[1]4智育成绩'!G13","v":{"v":80.2580645161291,"d":"80.26"}},{"$f":"'[1]8体育加分细则'!R13","v":{"v":80.5,"d":"80.50"}},{"$f":"'[1]9智育-必修'!X16","v":{"v":0.684210526315789,"d":"68.42%"}},{"v":87.0906451612904,"d":"87.09"}]
[69,2023012225,"韩净珊",{"$f":"'[1]6德育成绩'!H11","v":{"v":117,"d":"117.00"}},{"$f":"'[1]4智育成绩'!G11","v":{"v":78.5184750733138,"d":"78.52"}},{"$f":"'[1]8体育加分细则'!R11","v":{"v":84,"d":"84.00"}},{"$f":"'[1]9智育-必修'!X14","v":{"v":0.684210526315789,"d":"68.42%"}},{"v":86.7629325513197,"d":"86.76"}]
[70,2023012243,"袁行",{"$f":"'[1]6德育成绩'!H25","v":115.05},{"$f":"'[1]4智育成绩'!G25","v":{"v":78.6096551724138,"d":"78.61"}},{"$f":"'[1]8体育加分细则'!R25","v":{"v":82,"d":"82.00"}},{"$f":"'[1]9智育-必修'!X28","v":{"v":0.666666666666667,"d":"66.67%"}},{"v":86.2367586206897,"d":"86.24"}]
[71,2023012236,"张硕琦",{"$f":"'[1]6德育成绩'!H20","v":117.05},{"$f":"'[1]4智育成绩'!G20","v":{"v":74.8609677419355,"d":"74.86"}},{"$f":"'[1]8体育加分细则'!R20","v":{"v":102.5,"d":"102.50"}},{"$f":"'[1]9智育-必修'!X23","v":{"v":0.578947368421053,"d":"57.89%"}},{"v":86.0626774193548,"d":"86.06"}]
[72,2023012279,"童心怡",{"$f":"'[1]6德育成绩'!H60","v":{"v":110.5,"d":"110.50"}},{"$f":"'[1]4智育成绩'!G60","v":{"v":78.9436950146628,"d":"78.94"}},{"$f":"'[1]8体育加分细则'!R60","v":{"v":78,"d":"78.00"}},{"$f":"'[1]9智育-必修'!X63","v":{"v":0.631578947368421,"d":"63.16%"}},{"v":85.160586510264,"d":"85.16"}]
[73,2023012278,"胡心仪",{"$f":"'[1]6德育成绩'!H59","v":{"v":117,"d":"117.00"}},{"$f":"'[1]4智育成绩'!G59","v":{"v":79.4731182795699,"d":"79.47"}},{"$f":"'[1]8体育加分细则'!R59","v":{"v":43,"d":"43.00"}},{"$f":"'[1]9智育-必修'!X62","v":{"v":0.684210526315789,"d":"68.42%"}},{"v":83.3311827956989,"d":"83.33"}]
[74,2022012186,"庄颖",{"$f":"'[1]6德育成绩'!H2","v":{"v":104,"d":"104.00"}},{"$f":"'[1]4智育成绩'!G2","v":{"v":79.1074074074074,"d":"79.11"}},{"$f":"'[1]8体育加分细则'!R2","v":{"v":66,"d":"66.00"}},{"$f":"'[1]9智育-必修'!X5","v":{"v":0.647058823529412,"d":"64.71%"}},{"v":82.7751851851852,"d":"82.78"}]
[75,2023012259,"李昭祎",{"$f":"'[1]6德育成绩'!H40","v":{"v":96,"d":"96.00"}},{"$f":"'[1]4智育成绩'!G40","v":{"v":75.6423963133641,"d":"75.64"}},{"$f":"'[1]8体育加分细则'!R40","v":{"v":82,"d":"82.00"}},{"$f":"'[1]9智育-必修'!X43","v":{"v":0.789473684210526,"d":"78.95%"}},{"v":80.3496774193549,"d":"80.35"}]